BEGIN:VCALENDAR
VERSION:2.0
METHOD:PUBLISH
PRODID:-//Accessible Web Design//My Calendar//http://www.joedolson.com//v3.3.17//EN';
BEGIN:VEVENT
UID:188-23
LOCATION:TanzTreffAlex Erfurter Str. 9 Neustadt an der Weinstrasse Rheinland Pfalz 67433
SUMMARY:JUTA
DTSTAMP:20240629T201500
ORGANIZER;CN=tanztreffalex.de:MAILTO:info@tanztreffalex.de
DTSTART:20240629T201500
DTEND:20240629T220000
CATEGORIES:Jugend
URL;VALUE=URI:
DESCRIPTION;ENCODING=QUOTED-PRINTABLE:Kennt Ihr schon unsere JUTA?Wir haben JUTA ins Leben gerufen, um auch Euch Jugendlichen einen Ort zu bieten, um gemeinsam bei guter Musik abzudancen und in cooler Atmosphäre einen Abend zu verbringen. JUTA wird an einem Samstag im Monat ihren Platz von 20.15-22.00Uhr finden.Kommt doch mit Euren Freunden vorbei und überzeugt Euch von JUTA.YOUR DANCEFLOOREintritt: 4€ pro Person 
END:VEVENT
END:VCALENDAR