BEGIN:VCALENDAR
VERSION:2.0
METHOD:PUBLISH
PRODID:-//Accessible Web Design//My Calendar//http://www.joedolson.com//v3.3.17//EN';
BEGIN:VEVENT
UID:283-12
LOCATION:TanzTreffAlex Erfurter Str. 9 Neustadt an der Weinstrasse Rheinland Pfalz 67433
SUMMARY:Schlossfest
DTSTAMP:20240928T110000
ORGANIZER;CN=tanztreffalex.de:MAILTO:info@tanztreffalex.de
DTSTART:20240928T110000
DTEND:20240928T130000
CATEGORIES:spezialparty
URL;VALUE=URI:
DESCRIPTION;ENCODING=QUOTED-PRINTABLE:Komm in unser Tanzschulschloss!Der Ball der Prinzen und PrinzessinnenErlebe eine märchenhafte Zeit als Prinzessin oder Prinz mit Schloss-Spielen, Tänzen und ganz viel Spaß…• 8,- EUR je Prinzessin/Prinz• 4,- EUR je königlichem Begleitschutz incl. einem Glas Secco oder einer Tasse Kaffee!• Mini-Hofadel (0-2 Jahre) freier Eintritt!Karten ab 06.09.24 im Kartenvorverkauf 
END:VEVENT
END:VCALENDAR