BEGIN:VCALENDAR
VERSION:2.0
METHOD:PUBLISH
PRODID:-//Accessible Web Design//My Calendar//http://www.joedolson.com//v3.3.17//EN';
BEGIN:VEVENT
UID:299-20
LOCATION:TanzTreffAlex Erfurter Str. 9 Neustadt an der Weinstrasse Rheinland Pfalz 67433
SUMMARY:Kinder-Fasching
DTSTAMP:20250228T150000
ORGANIZER;CN=tanztreffalex.de:MAILTO:info@tanztreffalex.de
DTSTART:20250228T150000
DTEND:20250228T163000
CATEGORIES:spezialparty
URL;VALUE=URI:
DESCRIPTION;ENCODING=QUOTED-PRINTABLE:Unser Kindertanzteam heizt euch so richtig ein. Mit Tanz, Spiel und Spaß geht es durch den Nachmittag. Natürlich darf auch das Fliegerlied nicht fehlen ;)Eine erwachsene Begleitperson ist Pflicht.Kursteilnehmer sind frei.Gäste 5,- EUR pro Kind, Eltern und Geschwisterkinder(0-2) freier Eintritt 
END:VEVENT
END:VCALENDAR